BEGIN:VCALENDAR
VERSION:2.0
PRODID:-//https://www.alcoholica.ca///NONSGML kigkonsult.se iCalcreator 2.10.15//
METHOD:PUBLISH
BEGIN:VEVENT
UID:20260421T164351UTC-6351oW83uf@https://www.alcoholica.ca/
DTSTAMP:20260421T164351Z
DESCRIPTION:Billets en vente ici:https://lepointdevente.com/billets/nua2603
 13001 https://alcoholica.ca/en/component/rseventspro/event/514-resto-bar-t
 op-shot-lachute?Itemid=325
DTSTART:20260314T013000Z
DTEND:20260314T033000Z
LOCATION:Resto Bar Top Shot (417 Rue Principale\, Lachute\, QC J8H 1Y1\, Ca
 nada)
SUMMARY:Resto Bar Top Shot - Lachute
URL:https://alcoholica.ca/en/component/rseventspro/event/514-resto-bar-top-
 shot-lachute?Itemid=325
END:VEVENT
END:VCALENDAR
