BEGIN:VCALENDAR
VERSION:2.0
PRODID:-//https://www.alcoholica.ca///NONSGML kigkonsult.se iCalcreator 2.10.15//
METHOD:PUBLISH
BEGIN:VEVENT
UID:20260421T220325UTC-0202GaDoHD@https://www.alcoholica.ca/
DTSTAMP:20260421T220325Z
DESCRIPTION:Obtenez vos billets gratuits ici:https://lepointdevente.com/bil
 lets/cho260424001 https://alcoholica.ca/fr/component/rseventspro/evenement
 /527-club-hommage-montreal?Itemid=323
DTSTART:20260425T000000Z
DTEND:20260425T035700Z
LOCATION:Club Soda (Club Hommage) (1225 Boul. Saint-Laurent\, Montréal\, QC
  H2X 2S6\, Canada)
SUMMARY:Club Hommage\, Montréal
URL:https://alcoholica.ca/fr/component/rseventspro/evenement/527-club-homma
 ge-montreal?Itemid=323
END:VEVENT
END:VCALENDAR
