BEGIN:VCALENDAR
VERSION:2.0
PRODID:-//https://www.alcoholica.ca///NONSGML kigkonsult.se iCalcreator 2.10.15//
METHOD:PUBLISH
BEGIN:VEVENT
UID:20260421T201412UTC-1359Vn852p@https://www.alcoholica.ca/
DTSTAMP:20260421T201412Z
DESCRIPTION: https://alcoholica.ca/fr/en-spectacle/evenement/522-festival-p
 romutuel-de-la-releve-thetford-mines
DTSTART:20260823T010000Z
DTEND:20260823T030000Z
LOCATION:Chapiteau CANAC (34 Rue Notre Dame O\, Thetford Mines\, QC G6G 1J2
 \, Canada)
SUMMARY:Festival Promutuel de la Relève - Thetford Mines
URL:https://alcoholica.ca/fr/en-spectacle/evenement/522-festival-promutuel-
 de-la-releve-thetford-mines
END:VEVENT
END:VCALENDAR
