BEGIN:VCALENDAR
VERSION:2.0
PRODID:-//https://www.alcoholica.ca///NONSGML kigkonsult.se iCalcreator 2.10.15//
METHOD:PUBLISH
BEGIN:VEVENT
UID:20260421T200825UTC-74454Zb2CC@https://www.alcoholica.ca/
DTSTAMP:20260421T200825Z
DESCRIPTION:SPECTACLE GRATUIT ! https://alcoholica.ca/fr/en-spectacle/evene
 ment/526-beauce-rock-beauceville
DTSTART:20260808T010000Z
DTEND:20260808T023000Z
LOCATION:Beauce Rock (585 Bd Renault\, Beauceville\, QC G5X 1M9\, Canada)
SUMMARY:Beauce Rock - Beauceville
URL:https://alcoholica.ca/fr/en-spectacle/evenement/526-beauce-rock-beaucev
 ille
END:VEVENT
END:VCALENDAR
