BEGIN:VCALENDAR
VERSION:2.0
PRODID:-//https://www.alcoholica.ca///NONSGML kigkonsult.se iCalcreator 2.10.15//
METHOD:PUBLISH
BEGIN:VEVENT
UID:20260421T213927UTC-3643PsDuVr@https://www.alcoholica.ca/
DTSTAMP:20260421T213927Z
DESCRIPTION: https://alcoholica.ca/fr/en-spectacle/evenement/516-bistro-che
 z-moes-saint-sauveur
DTSTART:20260523T000000Z
DTEND:20260523T035700Z
LOCATION:Bistro Chez Moe's Saint-Sauveur (21 Av. de la Gare\, Saint-Sauveur
 \, QC J0R 1R0\, Canada)
SUMMARY:Bistro Chez Moe's - Saint-Sauveur
URL:https://alcoholica.ca/fr/en-spectacle/evenement/516-bistro-chez-moes-sa
 int-sauveur
END:VEVENT
END:VCALENDAR
