BEGIN:VCALENDAR
VERSION:2.0
PRODID:-//https://www.alcoholica.ca///NONSGML kigkonsult.se iCalcreator 2.10.15//
METHOD:PUBLISH
BEGIN:VEVENT
UID:20260422T010457UTC-04204TWhgt@https://www.alcoholica.ca/
DTSTAMP:20260422T010457Z
DESCRIPTION: https://alcoholica.ca/fr/en-spectacle/evenement/521-festival-f
 ort-causap-causapscal
DTSTART:20260724T020000Z
DTEND:20260724T033000Z
LOCATION:Parc de la Pointe Causapscal (35 Rue St Jean-Baptiste\, Causapscal
 \, QC G0J 1J0\, Canada)
SUMMARY:Festival Fort Causap - Causapscal
URL:https://alcoholica.ca/fr/en-spectacle/evenement/521-festival-fort-causa
 p-causapscal
END:VEVENT
END:VCALENDAR
